Workbook

Sheet Sheet1
A2: Group | B2: Activity Port | C2: APMAAccount | D2: Amount | E2: Description | F2: Line | G2: Vessel | H2: VslCode | I2: Voyage | J2: Call Port | K2: Rg-datum | L2: Rg-nummer | M2: PO | N2: Hilfstabelle MSK/SGL
A3: =IF(ISBLANK(G3),"",21) -> 21 | B3: =IF(J3=0,"",J3) -> BRV | C3: =IF(ISBLANK(G3),"","109050") -> 109050 | D3: =IF(ISBLANK(G3),"",90) -> 90 | E3: =IF(ISBLANK(G3),"","Bremer Schiffsm.") -> Bremer Schiffsm. | F3: =IF(G3="","",VLOOKUP(G3,Vessel!$A$1:$C$194,3,FALSE)) -> #N/A | G3: Vayenga Maersk | H3: =IF(G3="", "",VLOOKUP(UPPER(G3),Vessel!$A$1:$C$194,2,FALSE)) -> #N/A | J3: BRV | K3: 43879 | L3: SE4894 | M3: 8500193719 | N3: =VLOOKUP(G3,Schiffsliste!$A$1:$B$2000,2,FALSE) -> #N/A
A4: =IF(ISBLANK(G4),"",21) -> 21 | B4: =IF(J4=0,"",J4) -> BRV | C4: =IF(ISBLANK(G4),"","109050") -> 109050 | D4: =IF(ISBLANK(G4),"",90) -> 90 | E4: =IF(ISBLANK(G4),"","Bremer Schiffsm.") -> Bremer Schiffsm. | F4: =IF(G4="","",VLOOKUP(G4,Vessel!$A$1:$C$194,3,FALSE)) -> #N/A | G4: Vuoksi Maersk | H4: =IF(G4="", "",VLOOKUP(UPPER(G4),Vessel!$A$1:$C$194,2,FALSE)) -> #N/A | J4: BRV | K4: 43879 | L4: SE4895 | M4: 8500237718 | N4: =VLOOKUP(G4,Schiffsliste!$A$1:$B$2000,2,FALSE) -> #N/A
A5: =IF(ISBLANK(G5),"",21) -> 21 | B5: =IF(J5=0,"",J5) -> BRV | C5: =IF(ISBLANK(G5),"","109050") -> 109050 | D5: =IF(ISBLANK(G5),"",90) -> 90 | E5: =IF(ISBLANK(G5),"","Bremer Schiffsm.") -> Bremer Schiffsm. | F5: =IF(G5="","",VLOOKUP(G5,Vessel!$A$1:$C$194,3,FALSE)) -> #N/A | G5: Voronezh | H5: =IF(G5="", "",VLOOKUP(UPPER(G5),Vessel!$A$1:$C$194,2,FALSE)) -> #N/A | J5: BRV | K5: 43881 | L5: SE4896 | M5: 8500112476 | N5: =VLOOKUP(G5,Schiffsliste!$A$1:$B$2000,2,FALSE) -> #N/A
A6: =IF(ISBLANK(G6),"",21) -> 21 | B6: =IF(J6=0,"",J6) -> BRV | C6: =IF(ISBLANK(G6),"","109050") -> 109050 | D6: =IF(ISBLANK(G6),"",90) -> 90 | E6: =IF(ISBLANK(G6),"","Bremer Schiffsm.") -> Bremer Schiffsm. | F6: =IF(G6="","",VLOOKUP(G6,Vessel!$A$1:$C$194,3,FALSE)) -> #N/A | G6: JSP Sleipner | H6: =IF(G6="", "",VLOOKUP(UPPER(G6),Vessel!$A$1:$C$194,2,FALSE)) -> #N/A | J6: BRV | K6: 43881 | L6: SE4897 | M6: 8500116991 | N6: =VLOOKUP(G6,Schiffsliste!$A$1:$B$2000,2,FALSE) -> #N/A
A7: =IF(ISBLANK(G7),"",21) -> 21 | B7: =IF(J7=0,"",J7) -> BRV | C7: =IF(ISBLANK(G7),"","109050") -> 109050 | D7: =IF(ISBLANK(G7),"",90) -> 90 | E7: =IF(ISBLANK(G7),"","Bremer Schiffsm.") -> Bremer Schiffsm. | F7: =IF(G7="","",VLOOKUP(G7,Vessel!$A$1:$C$194,3,FALSE)) -> #N/A | G7: Maersk Niteroi | H7: =IF(G7="", "",VLOOKUP(UPPER(G7),Vessel!$A$1:$C$194,2,FALSE)) -> #N/A | J7: BRV | K7: 43883 | L7: SE4899 | M7: 8500259166 | N7: =VLOOKUP(G7,Schiffsliste!$A$1:$B$2000,2,FALSE) -> #N/A
A8: =IF(ISBLANK(G8),"",21) -> 21 | B8: =IF(J8=0,"",J8) -> BRV | C8: =IF(ISBLANK(G8),"","109050") -> 109050 | D8: =IF(ISBLANK(G8),"",90) -> 90 | E8: =IF(ISBLANK(G8),"","Bremer Schiffsm.") -> Bremer Schiffsm. | F8: =IF(G8="","",VLOOKUP(G8,Vessel!$A$1:$C$194,3,FALSE)) -> #N/A | G8: Annaba | H8: =IF(G8="", "",VLOOKUP(UPPER(G8),Vessel!$A$1:$C$194,2,FALSE)) -> #N/A | J8: BRV | K8: 43884 | L8: SE4900 | M8: 8500109881 | N8: =VLOOKUP(G8,Schiffsliste!$A$1:$B$2000,2,FALSE) -> #N/A
A9: =IF(ISBLANK(G9),"",21) | B9: =IF(J9=0,"",J9) | C9: =IF(ISBLANK(G9),"","109050") | D9: =IF(ISBLANK(G9),"",90) | E9: =IF(ISBLANK(G9),"","Bremer Schiffsm.") | F9: =IF(G9="","",VLOOKUP(G9,Vessel!$A$1:$C$194,3,FALSE)) | H9: =IF(G9="", "",VLOOKUP(UPPER(G9),Vessel!$A$1:$C$194,2,FALSE)) | N9: =VLOOKUP(G9,Schiffsliste!$A$1:$B$2000,2,FALSE) -> #N/A
A10: =IF(ISBLANK(G10),"",21) | B10: =IF(J10=0,"",J10) | C10: =IF(ISBLANK(G10),"","109050") | D10: =IF(ISBLANK(G10),"",90) | E10: =IF(ISBLANK(G10),"","Bremer Schiffsm.") | F10: =IF(G10="","",VLOOKUP(G10,Vessel!$A$1:$C$194,3,FALSE)) | H10: =IF(G10="", "",VLOOKUP(UPPER(G10),Vessel!$A$1:$C$194,2,FALSE)) | N10: =VLOOKUP(G10,Schiffsliste!$A$1:$B$2000,2,FALSE) -> #N/A
A11: =IF(ISBLANK(G11),"",21) | B11: =IF(J11=0,"",J11) | C11: =IF(ISBLANK(G11),"","109050") | D11: =IF(ISBLANK(G11),"",90) | E11: =IF(ISBLANK(G11),"","Bremer Schiffsm.") | F11: =IF(G11="","",VLOOKUP(G11,Vessel!$A$1:$C$194,3,FALSE)) | H11: =IF(G11="", "",VLOOKUP(UPPER(G11),Vessel!$A$1:$C$194,2,FALSE)) | N11: =VLOOKUP(G11,Schiffsliste!$A$1:$B$2000,2,FALSE) -> #N/A
A12: =IF(ISBLANK(G12),"",21) | B12: =IF(J12=0,"",J12) | C12: =IF(ISBLANK(G12),"","109050") | D12: =IF(ISBLANK(G12),"",90) | E12: =IF(ISBLANK(G12),"","Bremer Schiffsm.") | F12: =IF(G12="","",VLOOKUP(G12,Vessel!$A$1:$C$194,3,FALSE)) | H12: =IF(G12="", "",VLOOKUP(UPPER(G12),Vessel!$A$1:$C$194,2,FALSE)) | N12: =VLOOKUP(G12,Schiffsliste!$A$1:$B$2000,2,FALSE) -> #N/A
A13: =IF(ISBLANK(G13),"",21) | B13: =IF(J13=0,"",J13) | C13: =IF(ISBLANK(G13),"","109050") | D13: =IF(ISBLANK(G13),"",90) | E13: =IF(ISBLANK(G13),"","Bremer Schiffsm.") | F13: =IF(G13="","",VLOOKUP(G13,Vessel!$A$1:$C$194,3,FALSE)) | H13: =IF(G13="", "",VLOOKUP(UPPER(G13),Vessel!$A$1:$C$194,2,FALSE)) | N13: =VLOOKUP(G13,Schiffsliste!$A$1:$B$2000,2,FALSE) -> #N/A
A14: =IF(ISBLANK(G14),"",21) | B14: =IF(J14=0,"",J14) | C14: =IF(ISBLANK(G14),"","109050") | D14: =IF(ISBLANK(G14),"",90) | E14: =IF(ISBLANK(G14),"","Bremer Schiffsm.") | F14: =IF(G14="","",VLOOKUP(G14,Vessel!$A$1:$C$194,3,FALSE)) | H14: =IF(G14="", "",VLOOKUP(UPPER(G14),Vessel!$A$1:$C$194,2,FALSE)) | N14: =VLOOKUP(G14,Schiffsliste!$A$1:$B$2000,2,FALSE) -> #N/A
A15: =IF(ISBLANK(G15),"",21) | B15: =IF(J15=0,"",J15) | C15: =IF(ISBLANK(G15),"","109050") | D15: =IF(ISBLANK(G15),"",90) | E15: =IF(ISBLANK(G15),"","Bremer Schiffsm.") | F15: =IF(G15="","",VLOOKUP(G15,Vessel!$A$1:$C$194,3,FALSE)) | H15: =IF(G15="", "",VLOOKUP(UPPER(G15),Vessel!$A$1:$C$194,2,FALSE)) | N15: =VLOOKUP(G15,Schiffsliste!$A$1:$B$2000,2,FALSE) -> #N/A
A16: =IF(ISBLANK(G16),"",21) | B16: =IF(J16=0,"",J16) | C16: =IF(ISBLANK(G16),"","109050") | D16: =IF(ISBLANK(G16),"",90) | E16: =IF(ISBLANK(G16),"","Bremer Schiffsm.") | F16: =IF(G16="","",VLOOKUP(G16,Vessel!$A$1:$C$194,3,FALSE)) | H16: =IF(G16="", "",VLOOKUP(UPPER(G16),Vessel!$A$1:$C$194,2,FALSE)) | N16: =VLOOKUP(G16,Schiffsliste!$A$1:$B$2000,2,FALSE) -> #N/A
A17: =IF(ISBLANK(G17),"",21) | B17: =IF(J17=0,"",J17) | C17: =IF(ISBLANK(G17),"","109050") | D17: =IF(ISBLANK(G17),"",90) | E17: =IF(ISBLANK(G17),"","Bremer Schiffsm.") | F17: =IF(G17="","",VLOOKUP(G17,Vessel!$A$1:$C$194,3,FALSE)) | H17: =IF(G17="", "",VLOOKUP(UPPER(G17),Vessel!$A$1:$C$194,2,FALSE)) | N17: =VLOOKUP(G17,Schiffsliste!$A$1:$B$2000,2,FALSE) -> #N/A
A18: =IF(ISBLANK(G18),"",21) | B18: =IF(J18=0,"",J18) | C18: =IF(ISBLANK(G18),"","109050") | D18: =IF(ISBLANK(G18),"",90) | E18: =IF(ISBLANK(G18),"","Bremer Schiffsm.") | F18: =IF(G18="","",VLOOKUP(G18,Vessel!$A$1:$C$194,3,FALSE)) | H18: =IF(G18="", "",VLOOKUP(UPPER(G18),Vessel!$A$1:$C$194,2,FALSE)) | N18: =VLOOKUP(G18,Schiffsliste!$A$1:$B$2000,2,FALSE) -> #N/A
A19: =IF(ISBLANK(G19),"",21) | B19: =IF(J19=0,"",J19) | C19: =IF(ISBLANK(G19),"","109050") | D19: =IF(ISBLANK(G19),"",90) | E19: =IF(ISBLANK(G19),"","Bremer Schiffsm.") | F19: =IF(G19="","",VLOOKUP(G19,Vessel!$A$1:$C$194,3,FALSE)) | H19: =IF(G19="", "",VLOOKUP(UPPER(G19),Vessel!$A$1:$C$194,2,FALSE)) | N19: =VLOOKUP(G19,Schiffsliste!$A$1:$B$2000,2,FALSE) -> #N/A
A20: =IF(ISBLANK(G20),"",21) | B20: =IF(J20=0,"",J20) | C20: =IF(ISBLANK(G20),"","109050") | D20: =IF(ISBLANK(G20),"",90) | E20: =IF(ISBLANK(G20),"","Bremer Schiffsm.") | F20: =IF(G20="","",VLOOKUP(G20,Vessel!$A$1:$C$194,3,FALSE)) | H20: =IF(G20="", "",VLOOKUP(UPPER(G20),Vessel!$A$1:$C$194,2,FALSE)) | N20: =VLOOKUP(G20,Schiffsliste!$A$1:$B$2000,2,FALSE) -> #N/A
... A26: =IF(ISBLANK(G26),"",21) | B26: =IF(J26=0,"",J26) | C26: =IF(ISBLANK(G26),"","109050") | D26: =IF(ISBLANK(G26),"",90) | E26: =IF(ISBLANK(G26),"","Bremer Schiffsm.") | F26: =IF(G26="","",VLOOKUP(G26,Vessel!$A$1:$C$194,3,FALSE)) | H26: =IF(G26="", "",VLOOKUP(UPPER(G26),Vessel!$A$1:$C$194,2,FALSE)) | N26: =VLOOKUP(G26,Schiffsliste!$A$1:$B$2000,2,FALSE) -> #N/A
A27: always: 21 | B27: not always: BRV | C27: always: 0109050 | E27: always:Bremer Schiffsm. | J27: not always: BRV
C29: Gesamtbetrag | D29: =SUM(D3:D28) -> 540 | E29: Sammelrechnung Nr.SR250852-20 | G29: Purchase Order No.: see above
C30: Druckdatum | D30: 43893

Sheet Vessel
A1: A. P. MOLLER | B1: 257 | C1: E1
A2: ADRIAN MAERSK | B2: 702 | C2: E1
A3: ALBERT MAERSK | B3: 703 | C3: E1
A4: AMALTHEA | B4: 86Q | C4: I1
A5: ANKARA | B5: 17L | C5: I1
A6: ANNA MAERSK | B6: 128 | C6: E1
A7: ARNOLD MAERSK | B7: 129 | C7: E1
A8: ARTHUR MAERSK | B8: 701 | C8: E1
A9: AXEL MAERSK | B9: 126 | C9: E1
A10: CAP ARNAUTI | B10: 51A | C10: S3
A11: CEC CONWAY | B11: 70Z | C11: I1
A12: CHARLOTTE MAERSK | B12: 474 | C12: E1
A13: CHASTINE MAERSK | B13: 464 | C13: E1
A14: CLEMENTINE MAERSK | B14: 548 | C14: E1
A15: CONCORDIA | B15: 47M | C15: I1
A16: CONTSHIP AURORA | B16: 34A | C16: O1
A17: CONTSHIP AUSTRALIS | B17: 35A | C17: O1
A18: CONTSHIP BOREALIS | B18: 36A | C18: O1
A19: CORNELIUS MAERSK | B19: 781 | C19: E1
A20: DIRCH MAERSK | B20: 729 | C20: P3
A21: E.R.FELIXSTOWE | B21: 25I | C21: E1
A22: EBBA MAERSK | B22: 788 | C22: E1
A23: ELEONORA MAERSK | B23: 785 | C23: E1
A24: ELLY MAERSK | B24: 789 | C24: E1
A25: EMMA MAERSK | B25: 766 | C25: E1
A26: ESTELLE MAERSK | B26: 772 | C26: E1
A27: EVELYN MAERSK | B27: 787 | C27: E1
A28: FELICITAS | B28: 40R | C28: I1
A29: FLORENCE | B29: 25A | C29: I1
A30: GEORG MAERSK | B30: 614 | C30: E1
A31: GERD MAERSK | B31: 613 | C31: E1
A32: GJERTRUD MAERSK | B32: 612 | C32: E1
A33: GLASGOW MAERSK | B33: 722 | C33: P3
A34: GOSPORT MAERSK | B34: 761 | C34: E1
A35: GRETE MAERSK | B35: 623 | C35: E1
A36: GUDRUN MAERSK | B36: 622 | C36: E1
A37: GUNVOR MAERSK | B37: 624 | C37: E1
A38: HUSKY RUNNER | B38: 33R | C38: I1
A39: KAREN MAERSK | B39: 604 | C39: E1
A40: KATE MAERSK | B40: 603 | C40: E1
A41: KENZA | B41: 51M | C41: I1
A42: KIRSTEN MAERSK | B42: 222 | C42: E1
A43: LARS MAERSK | B43: 731 | C43: S3
A44: LAURA MAERSK | B44: 268 | C44: X3
A45: LAUST MAERSK | B45: 269 | C45: X3
A46: LEDA MAERSK | B46: 270 | C46: X3
A47: LEXA MAERSK | B47: 271 | C47: X3
A48: LICA MAERSK | B48: 275 | C48: S3
A49: LUNA MAERSK | B49: 277 | C49: X3
A50: MADISON MAERSK | B50: 243 | C50: T2
A51: MAERSK ANTARES | B51: 693 | C51: E1
A52: MAERSK BALTIMORE | B52: 814 | C52: T2
A53: MAERSK BARCELONA | B53: 20L | C53: I1
A54: MAERSK BELAWAN | B54: 19L | C54: I1
A55: MAERSK BRISBANE | B55: 18L | C55: I1
A56: MAERSK BROOKLYN | B56: 819 | C56: E1
A57: MAERSK DACARTUR | B57: 94D | C57: O1
A58: MAERSK DAESAN | B58: 97Z | C58: E4
A59: MAERSK DALE | B59: 35A | C59: O1
A60: MAERSK DALLAS | B60: 60Z | C60: P3
A61: MAERSK DAMASCUS | B61: 96D | C61: E1
A62: MAERSK DAMMAM | B62: 27Z | C62: E4
A63: MAERSK DANBURY | B63: 95N | C63: P3
A64: MAERSK DARTMOUTH | B64: 93Z | C64: E1
A65: MAERSK DAUPHIN | B65: 6YF | C65: E4
A66: MAERSK DAVENPORT | B66: 96N | C66: E4
A67: MAERSK DAYTON | B67: 36A | C67: O1
A68: MAERSK DECARTUR | B68: 94D | C68: O1
... A110: MAERSK KARACHI | B110: 8GF | C110: E1
A111: MAERSK KELSO | B111: 402 | C111: E1
A112: MAERSK KOBE | B112: 03M | C112: E4
A113: MAERSK KOLKATA | B113: 96W | C113: E4
A114: MAERSK KOWLOON | B114: 151 | C114: E1
A115: MAERSK KUANTAN | B115: 399 | C115: E1
A116: MAERSK KWANGYANG | B116: 152 | C116: E1
A117: MAERSK KYRENIA | B117: 8LF | C117: E1
A118: MAERSK MALACCA | B118: 092 | C118: E1
A119: MAERSK MANDRAKI | B119: 21R | C119: E1
A120: MAERSK MERLION | B120: 095 | C120: E4
A121: MAERSK MESSOLOGI | B121: 71A | C121: P3
A122: MAERSK MYKONOS | B122: 20R | C122: P3
A123: MAERSK MYTILINI | B123: 70A | C123: E1
A124: MAERSK PALERMO | B124: 6CF | C124: T1
A125: MAERSK PATRAS | B125: 6BF | C125: T1
A126: MAERSK PECEM | B126: 30N | C126: T2
A127: MAERSK PENANG | B127: 6DF | C127: T1
A128: MAERSK PERTH | B128: 97M | C128: T1
... A138: MAERSK SARNIA | B138: 8QF | C138: E1
A139: MAERSK SEMAKAU | B139: 215 | C139: E1
A140: MAERSK SEOUL | B140: 28I | C140: E1
A141: MAERSK SEVILLE | B141: 8SF | C141: E1
A142: MAERSK SHEERNESS | B142: 8TF | C142: E1
A143: MAERSK STRALSUND | B143: 27I | C143: E1
A144: MAERSK SURABAYA | B144: 93N | C144: E1
A145: MAERSK SYDNEY | B145: 8RF | C145: E1
A146: MAERSK VALLETTA | B146: 68Q | C146: I1
A147: MAERSK VANCOUVER | B147: 67Q | C147: I1
A148: MAERSK VENICE | B148: 90Q | C148: I1
A149: MAERSK VIENNA | B149: 38N | C149: E4
A150: MAERSK VIGO | B150: 69Q | C150: S3
...

Sheet Schiffsliste
A1: =#REF! -> #REF! | B1: =#REF! -> #REF! | C1: 2000
A2: =#REF! -> #REF! | B2: =#REF! -> #REF! | C2: 1999
A3: =#REF! -> #REF! | B3: =#REF! -> #REF! | C3: 1998
A4: =#REF! -> #REF! | B4: =#REF! -> #REF! | C4: 1997
A5: =#REF! -> #REF! | B5: =#REF! -> #REF! | C5: 1996
A6: =#REF! -> #REF! | B6: =#REF! -> #REF! | C6: 1995
A7: =#REF! -> #REF! | B7: =#REF! -> #REF! | C7: 1994
A8: =#REF! -> #REF! | B8: =#REF! -> #REF! | C8: 1993
A9: =#REF! -> #REF! | B9: =#REF! -> #REF! | C9: 1992
A10: =#REF! -> #REF! | B10: =#REF! -> #REF! | C10: 1991
A11: =#REF! -> #REF! | B11: =#REF! -> #REF! | C11: 1990
A12: =#REF! -> #REF! | B12: =#REF! -> #REF! | C12: 1989
... A2000: =#REF! -> #REF! | B2000: =#REF! -> #REF! | C2000: 1
